BEGIN:VCALENDAR
VERSION:2.0
PRODID:-//wp-events-plugin.com//7.2.3.1//EN
TZID:America/Chicago
X-WR-TIMEZONE:America/Chicago
BEGIN:VEVENT
UID:5241@putnam.org
DTSTART;TZID=America/Chicago:20260520T173000
DTEND;TZID=America/Chicago:20260520T190000
DTSTAMP:20260421T130833Z
URL:https://www.putnam.org/events/travel-to-japan-2027-informational-meeti
 ng/
SUMMARY:Travel to Japan 2027 Informational Meeting
DESCRIPTION:5:30 PM
ATTACH;FMTTYPE=image/jpeg:https://www.putnam.org/wp-content/uploads/2026/0
 4/PM_KeyImage_JapanTrip_Meeting.jpg
CATEGORIES:Adult Ed,Events,Programs
END:VEVENT
BEGIN:VTIMEZONE
TZID:America/Chicago
X-LIC-LOCATION:America/Chicago
BEGIN:DAYLIGHT
DTSTART:20260308T030000
TZOFFSETFROM:-0600
TZOFFSETTO:-0500
TZNAME:CDT
END:DAYLIGHT
END:VTIMEZONE
END:VCALENDAR