BEGIN:VCALENDAR
VERSION:2.0
PRODID:-//wp-events-plugin.com//7.2.3.1//EN
TZID:America/Chicago
X-WR-TIMEZONE:America/Chicago
BEGIN:VEVENT
UID:5217@putnam.org
DTSTART;TZID=America/Chicago:20260318T100000
DTEND;TZID=America/Chicago:20260318T110000
DTSTAMP:20260112T171051Z
URL:https://www.putnam.org/events/pre-k-and-k-wicked-weather/
SUMMARY:Pre-K and K: Wicked Weather
DESCRIPTION:10:00 AM
ATTACH;FMTTYPE=image/jpeg:https://www.putnam.org/wp-content/uploads/2026/0
 1/PM_KeyImage_SpringCamp_WickedWeather.jpg
CATEGORIES:Child Ed,Events,Spring Camp,Spring Camps PreK
END:VEVENT
BEGIN:VTIMEZONE
TZID:America/Chicago
X-LIC-LOCATION:America/Chicago
BEGIN:DAYLIGHT
DTSTART:20260308T030000
TZOFFSETFROM:-0600
TZOFFSETTO:-0500
TZNAME:CDT
END:DAYLIGHT
END:VTIMEZONE
END:VCALENDAR