BEGIN:VCALENDAR
VERSION:2.0
PRODID:-//wp-events-plugin.com//7.2.3.1//EN
TZID:America/Chicago
X-WR-TIMEZONE:America/Chicago
BEGIN:VEVENT
UID:916@putnam.org
DTSTART;TZID=America/Chicago:20240127T150000
DTEND;TZID=America/Chicago:20240127T163000
DTSTAMP:20240102T173436Z
URL:https://www.putnam.org/events/moved-by-waters/
SUMMARY:Moved By Waters
DESCRIPTION:3:00 PM
ATTACH;FMTTYPE=image/jpeg:https://www.putnam.org/wp-content/uploads/2024/0
 1/PM_KeyImage_MovedByWaters_Movies.jpg
CATEGORIES:Events,Movies
END:VEVENT
BEGIN:VTIMEZONE
TZID:America/Chicago
X-LIC-LOCATION:America/Chicago
BEGIN:STANDARD
DTSTART:20231105T010000
TZOFFSETFROM:-0500
TZOFFSETTO:-0600
TZNAME:CST
END:STANDARD
END:VTIMEZONE
END:VCALENDAR