BEGIN:VCALENDAR
VERSION:2.0
PRODID:-//wp-events-plugin.com//7.2.3.1//EN
TZID:America/Chicago
X-WR-TIMEZONE:America/Chicago
BEGIN:VEVENT
UID:2986@putnam.org
DTSTART;TZID=America/Chicago:20241229T130000
DTEND;TZID=America/Chicago:20241229T144500
DTSTAMP:20241212T153927Z
URL:https://www.putnam.org/events/inside-out-2-5/
SUMMARY:Inside Out 2
DESCRIPTION:1:00 PM
ATTACH;FMTTYPE=image/jpeg:https://www.putnam.org/wp-content/uploads/2024/1
 0/PM_KeyImage_InsideOut2.jpg
CATEGORIES:Events,Inside Out 2,Movies
END:VEVENT
BEGIN:VTIMEZONE
TZID:America/Chicago
X-LIC-LOCATION:America/Chicago
BEGIN:STANDARD
DTSTART:20241103T010000
TZOFFSETFROM:-0500
TZOFFSETTO:-0600
TZNAME:CST
END:STANDARD
END:VTIMEZONE
END:VCALENDAR