BEGIN:VCALENDAR
VERSION:2.0
PRODID:-//wp-events-plugin.com//7.2.3.1//EN
TZID:America/Chicago
X-WR-TIMEZONE:America/Chicago
BEGIN:VEVENT
UID:3149@putnam.org
DTSTART;TZID=America/Chicago:20250220T170000
DTEND;TZID=America/Chicago:20250220T190000
DTSTAMP:20241230T154855Z
URL:https://www.putnam.org/events/history-on-tap-st-elizabeth-hospital-fir
 e/
SUMMARY:History On Tap: St. Elizabeth Hospital Fire
DESCRIPTION:5:00 PM
ATTACH;FMTTYPE=image/jpeg:https://www.putnam.org/wp-content/uploads/2024/1
 2/PM_HistoryOnTap_February-1.jpg
CATEGORIES:Adult Ed,Events,History On Tap,Programs
END:VEVENT
BEGIN:VTIMEZONE
TZID:America/Chicago
X-LIC-LOCATION:America/Chicago
BEGIN:STANDARD
DTSTART:20241103T010000
TZOFFSETFROM:-0500
TZOFFSETTO:-0600
TZNAME:CST
END:STANDARD
END:VTIMEZONE
END:VCALENDAR