BEGIN:VCALENDAR
VERSION:2.0
PRODID:-//wp-events-plugin.com//7.2.3.1//EN
TZID:America/Chicago
X-WR-TIMEZONE:America/Chicago
BEGIN:VEVENT
UID:5242@putnam.org
DTSTART;TZID=America/Chicago:20260521T170000
DTEND;TZID=America/Chicago:20260521T190000
DTSTAMP:20260421T190536Z
URL:https://www.putnam.org/events/history-on-tap-iowa-juneteenth/
SUMMARY:History On Tap: Iowa Juneteenth
DESCRIPTION:5:00 PM
ATTACH;FMTTYPE=image/jpeg:https://www.putnam.org/wp-content/uploads/2026/0
 4/History_On_tap_MAY.jpg
CATEGORIES:Adult Ed,Events,History On Tap,Programs
END:VEVENT
BEGIN:VTIMEZONE
TZID:America/Chicago
X-LIC-LOCATION:America/Chicago
BEGIN:DAYLIGHT
DTSTART:20260308T030000
TZOFFSETFROM:-0600
TZOFFSETTO:-0500
TZNAME:CDT
END:DAYLIGHT
END:VTIMEZONE
END:VCALENDAR