BEGIN:VCALENDAR
VERSION:2.0
PRODID:-//wp-events-plugin.com//7.2.3.1//EN
TZID:America/Chicago
X-WR-TIMEZONE:America/Chicago
BEGIN:VEVENT
UID:4686@putnam.org
DTSTART;TZID=America/Chicago:20250723T143000
DTEND;TZID=America/Chicago:20250723T151500
DTSTAMP:20250627T150555Z
URL:https://www.putnam.org/events/dream-big-engineering-our-world-19/
SUMMARY:Dream Big: Engineering Our World
DESCRIPTION:2:30 PM
ATTACH;FMTTYPE=image/jpeg:https://www.putnam.org/wp-content/uploads/2024/0
 2/PM_KeyImage_Movie_DreamBig.jpg
CATEGORIES:Dream Big,Movies
END:VEVENT
BEGIN:VTIMEZONE
TZID:America/Chicago
X-LIC-LOCATION:America/Chicago
BEGIN:DAYLIGHT
DTSTART:20250309T030000
TZOFFSETFROM:-0600
TZOFFSETTO:-0500
TZNAME:CDT
END:DAYLIGHT
END:VTIMEZONE
END:VCALENDAR